BEGIN:VCALENDAR
VERSION:2.0
PRODID:-//Saint-Georges-d&#039;Orques - ECPv6.15.20//NONSGML v1.0//EN
CALSCALE:GREGORIAN
METHOD:PUBLISH
X-ORIGINAL-URL:https://www.ville-st-georges-dorques.fr
X-WR-CALDESC:Évènements pour Saint-Georges-d&#039;Orques
REFRESH-INTERVAL;VALUE=DURATION:PT1H
X-Robots-Tag:noindex
X-PUBLISHED-TTL:PT1H
BEGIN:VTIMEZONE
TZID:Europe/Paris
BEGIN:DAYLIGHT
TZOFFSETFROM:+0100
TZOFFSETTO:+0200
TZNAME:CEST
DTSTART:20240331T010000
END:DAYLIGHT
BEGIN:STANDARD
TZOFFSETFROM:+0200
TZOFFSETTO:+0100
TZNAME:CET
DTSTART:20241027T010000
END:STANDARD
BEGIN:DAYLIGHT
TZOFFSETFROM:+0100
TZOFFSETTO:+0200
TZNAME:CEST
DTSTART:20250330T010000
END:DAYLIGHT
BEGIN:STANDARD
TZOFFSETFROM:+0200
TZOFFSETTO:+0100
TZNAME:CET
DTSTART:20251026T010000
END:STANDARD
BEGIN:DAYLIGHT
TZOFFSETFROM:+0100
TZOFFSETTO:+0200
TZNAME:CEST
DTSTART:20260329T010000
END:DAYLIGHT
BEGIN:STANDARD
TZOFFSETFROM:+0200
TZOFFSETTO:+0100
TZNAME:CET
DTSTART:20261025T010000
END:STANDARD
END:VTIMEZONE
BEGIN:VEVENT
DTSTART;VALUE=DATE:20251025
DTEND;VALUE=DATE:20251101
DTSTAMP:20260419T155111
CREATED:20251014T102015Z
LAST-MODIFIED:20251014T102527Z
UID:234915-1761350400-1761955199@www.ville-st-georges-dorques.fr
SUMMARY:Exposition "Ispirazione" Claudia Montanari
DESCRIPTION:🎨 Du 25 au 31 octobre\, plongez dans l’univers artistique de Claudia Montanari à la Salle du Conseil – Maison des Vendangeurs à Saint-Georges d’Orques !\nUn rendez-vous inédit avec des œuvres originales et objets du peintre et styliste Mino Montanari. \n🗓️ Vernissage le samedi 25 octobre 2025 \n\n\n17h30 : Présentation de l’exposition et projection d’Anima Urbis 🎬 \n\n\n18h15 : Conférence « Un voyage au cœur des îles Méditerranéennes italiennes » avec John Thompson\, chercheur CNRS 🌺🌿 \n\n\n19h : Pot de l’amitié avec spécialités réunionnaises préparées par Ti Pay 974 🍹🍍 \n\n\n📍 2 avenue de Montpellier\, 34680 Saint-Georges d’Orques\nHoraires : lun\, mer\, jeu\, ven : 17h-19h | sam\, dim : 10h-19h | mardi : fermé \nVenez vivre un moment de partage\, de culture et de convivialité ! Invitez vos proches et partagez cet évènement !
URL:https://www.ville-st-georges-dorques.fr/evenement/exposition-ispirazione-claudia-montanari/
LOCATION:Salle du Conseil – Maison des Vendangeurs\, 2 avenue de Montpellier\, Saint-Georges d'Orques\, 34680\, France
CATEGORIES:agenda
ATTACH;FMTTYPE=image/png:https://www.ville-st-georges-dorques.fr/wp-content/uploads/ISPIRAZIONE.png
END:VEVENT
END:VCALENDAR