BEGIN:VCALENDAR
VERSION:2.0
PRODID:-//Saint-Georges-d&#039;Orques - ECPv6.15.20//NONSGML v1.0//EN
CALSCALE:GREGORIAN
METHOD:PUBLISH
X-ORIGINAL-URL:https://www.ville-st-georges-dorques.fr
X-WR-CALDESC:Évènements pour Saint-Georges-d&#039;Orques
REFRESH-INTERVAL;VALUE=DURATION:PT1H
X-Robots-Tag:noindex
X-PUBLISHED-TTL:PT1H
BEGIN:VTIMEZONE
TZID:Europe/Paris
BEGIN:DAYLIGHT
TZOFFSETFROM:+0100
TZOFFSETTO:+0200
TZNAME:CEST
DTSTART:20240331T010000
END:DAYLIGHT
BEGIN:STANDARD
TZOFFSETFROM:+0200
TZOFFSETTO:+0100
TZNAME:CET
DTSTART:20241027T010000
END:STANDARD
BEGIN:DAYLIGHT
TZOFFSETFROM:+0100
TZOFFSETTO:+0200
TZNAME:CEST
DTSTART:20250330T010000
END:DAYLIGHT
BEGIN:STANDARD
TZOFFSETFROM:+0200
TZOFFSETTO:+0100
TZNAME:CET
DTSTART:20251026T010000
END:STANDARD
BEGIN:DAYLIGHT
TZOFFSETFROM:+0100
TZOFFSETTO:+0200
TZNAME:CEST
DTSTART:20260329T010000
END:DAYLIGHT
BEGIN:STANDARD
TZOFFSETFROM:+0200
TZOFFSETTO:+0100
TZNAME:CET
DTSTART:20261025T010000
END:STANDARD
END:VTIMEZONE
BEGIN:VEVENT
DTSTART;VALUE=DATE:20250927
DTEND;VALUE=DATE:20250929
DTSTAMP:20260419T191635
CREATED:20250910T090334Z
LAST-MODIFIED:20250910T090334Z
UID:234828-1758931200-1759103999@www.ville-st-georges-dorques.fr
SUMMARY:Exposition Régionale de Bonsaï
DESCRIPTION:Amoureux de la nature et de l’art du bonsaï\, cet événement est fait pour vous ! Le Bonsai Club Montpellier vous invite à sa grande Exposition Régionale Sud les 27 et 28 septembre 2025 🗓️. \nVenez admirer des créations magnifiques ✨\, rencontrer des professionnels passionnés et participer à un concours exceptionnel. Vous pourrez également bénéficier de conseils pour entretenir vos propres bonsaïs et peut-être même repartir avec un nouvel arbre ! 💚 \nL’entrée est libre\, donc n’hésitez plus. \nRendez-vous au Centre communal des rencontres à Saint-Georges d’Orques. 📍
URL:https://www.ville-st-georges-dorques.fr/evenement/exposition-regionale-de-bonsai/
LOCATION:CCR Michel COLUCCI\, Saint Georges d'Orques\, Saint Georges d'Orques\, France
CATEGORIES:agenda
ATTACH;FMTTYPE=image/png:https://www.ville-st-georges-dorques.fr/wp-content/uploads/affiche-expo-2025-A4.png
END:VEVENT
END:VCALENDAR