BEGIN:VCALENDAR
VERSION:2.0
PRODID:-//Saint-Georges-d&#039;Orques - ECPv6.15.20//NONSGML v1.0//EN
CALSCALE:GREGORIAN
METHOD:PUBLISH
X-ORIGINAL-URL:https://www.ville-st-georges-dorques.fr
X-WR-CALDESC:Évènements pour Saint-Georges-d&#039;Orques
REFRESH-INTERVAL;VALUE=DURATION:PT1H
X-Robots-Tag:noindex
X-PUBLISHED-TTL:PT1H
BEGIN:VTIMEZONE
TZID:Europe/Paris
BEGIN:DAYLIGHT
TZOFFSETFROM:+0100
TZOFFSETTO:+0200
TZNAME:CEST
DTSTART:20240331T010000
END:DAYLIGHT
BEGIN:STANDARD
TZOFFSETFROM:+0200
TZOFFSETTO:+0100
TZNAME:CET
DTSTART:20241027T010000
END:STANDARD
BEGIN:DAYLIGHT
TZOFFSETFROM:+0100
TZOFFSETTO:+0200
TZNAME:CEST
DTSTART:20250330T010000
END:DAYLIGHT
BEGIN:STANDARD
TZOFFSETFROM:+0200
TZOFFSETTO:+0100
TZNAME:CET
DTSTART:20251026T010000
END:STANDARD
BEGIN:DAYLIGHT
TZOFFSETFROM:+0100
TZOFFSETTO:+0200
TZNAME:CEST
DTSTART:20260329T010000
END:DAYLIGHT
BEGIN:STANDARD
TZOFFSETFROM:+0200
TZOFFSETTO:+0100
TZNAME:CET
DTSTART:20261025T010000
END:STANDARD
END:VTIMEZONE
BEGIN:VEVENT
DTSTART;TZID=Europe/Paris:20251026T150000
DTEND;TZID=Europe/Paris:20251026T150000
DTSTAMP:20260419T161137
CREATED:20250929T102641Z
LAST-MODIFIED:20251020T105146Z
UID:234871-1761490800-1761490800@www.ville-st-georges-dorques.fr
SUMMARY:Lotos du Club Taurin
DESCRIPTION:🎉 Les lotos du Club Taurin Le Trident sont de retour à Saint-Georges d’Orques ! \n🎯 Venez jouer et tenter de remporter plus de 3 000 € en bons d’achat lors de 41 parties dimanche 26 octobre à 15h au CCR\, route de Lavérune. \nBons d’achat de 30€\, 40€\, 50€\, et cartons pleins de 100€ à 500€ à gagner !\nDes planches pour tous les budgets : 10€ (6)\, 15€ (12)\, 20€ (18). \nEncore plus de gains avec la tombola le jour du loto et le jeu Cocorico (200€ à gagner) ! \nAmbiance garantie et buvette sur place. \nInfos : ctletridentsgeorges@gmail.com\nNe manquez pas ces rendez-vous festifs et venez tenter votre chance !
URL:https://www.ville-st-georges-dorques.fr/evenement/lotos-du-club-taurin/
LOCATION:CCR Michel COLUCCI\, Saint Georges d'Orques\, Saint Georges d'Orques\, France
CATEGORIES:agenda
ATTACH;FMTTYPE=image/jpeg:https://www.ville-st-georges-dorques.fr/wp-content/uploads/Affiche-lotos-club-taurin.jpg
END:VEVENT
END:VCALENDAR