BEGIN:VCALENDAR
VERSION:2.0
PRODID:-//Saint-Georges-d&#039;Orques - ECPv6.15.20//NONSGML v1.0//EN
CALSCALE:GREGORIAN
METHOD:PUBLISH
X-ORIGINAL-URL:https://www.ville-st-georges-dorques.fr
X-WR-CALDESC:Évènements pour Saint-Georges-d&#039;Orques
REFRESH-INTERVAL;VALUE=DURATION:PT1H
X-Robots-Tag:noindex
X-PUBLISHED-TTL:PT1H
BEGIN:VTIMEZONE
TZID:Europe/Paris
BEGIN:DAYLIGHT
TZOFFSETFROM:+0100
TZOFFSETTO:+0200
TZNAME:CEST
DTSTART:20240331T010000
END:DAYLIGHT
BEGIN:STANDARD
TZOFFSETFROM:+0200
TZOFFSETTO:+0100
TZNAME:CET
DTSTART:20241027T010000
END:STANDARD
BEGIN:DAYLIGHT
TZOFFSETFROM:+0100
TZOFFSETTO:+0200
TZNAME:CEST
DTSTART:20250330T010000
END:DAYLIGHT
BEGIN:STANDARD
TZOFFSETFROM:+0200
TZOFFSETTO:+0100
TZNAME:CET
DTSTART:20251026T010000
END:STANDARD
BEGIN:DAYLIGHT
TZOFFSETFROM:+0100
TZOFFSETTO:+0200
TZNAME:CEST
DTSTART:20260329T010000
END:DAYLIGHT
BEGIN:STANDARD
TZOFFSETFROM:+0200
TZOFFSETTO:+0100
TZNAME:CET
DTSTART:20261025T010000
END:STANDARD
END:VTIMEZONE
BEGIN:VEVENT
DTSTART;TZID=Europe/Paris:20251012T120000
DTEND;TZID=Europe/Paris:20251012T150000
DTSTAMP:20260419T155557
CREATED:20251007T095651Z
LAST-MODIFIED:20251007T095651Z
UID:234901-1760270400-1760281200@www.ville-st-georges-dorques.fr
SUMMARY:Taureau Paille - Club Taurin
DESCRIPTION:Rendez-vous le dimanche 12 octobre 2025 aux arènes Michel Laurens de Saint-Georges d’Orques pour une journée festive et solidaire animée par la manade Alain ! \nProgramme : \n\n\n12h : Vache aux arènes \n\n\n15h : Taureau paille \n\n\n🍻 Une buvette sera à votre disposition pour vous rafraîchir tout au long de la journée. \n🎗 Le bénéfice des entrées sera reversé au Téléthon – venez nombreux soutenir cette belle cause ! \nTarifs : \n\n\nTarif réduit : 3 € \n\n\nPlein tarif : 5 € \n\n\nVenez partager un moment convivial en famille ou entre amis\, dans la tradition des événements taurins locaux !
URL:https://www.ville-st-georges-dorques.fr/evenement/taureau-paille-club-taurin/
LOCATION:Les arènes\, Michel Laurens\, Saint Georges d'Orques\, 34680\, France
CATEGORIES:agenda
ATTACH;FMTTYPE=image/jpeg:https://www.ville-st-georges-dorques.fr/wp-content/uploads/IMG-20250929-WA0001.jpg
END:VEVENT
END:VCALENDAR