BEGIN:VCALENDAR
VERSION:2.0
PRODID:-//Saint-Georges-d&#039;Orques - ECPv6.15.20//NONSGML v1.0//EN
CALSCALE:GREGORIAN
METHOD:PUBLISH
X-WR-CALNAME:Saint-Georges-d&#039;Orques
X-ORIGINAL-URL:https://www.ville-st-georges-dorques.fr
X-WR-CALDESC:Évènements pour Saint-Georges-d&#039;Orques
REFRESH-INTERVAL;VALUE=DURATION:PT1H
X-Robots-Tag:noindex
X-PUBLISHED-TTL:PT1H
BEGIN:VTIMEZONE
TZID:Europe/Paris
BEGIN:DAYLIGHT
TZOFFSETFROM:+0100
TZOFFSETTO:+0200
TZNAME:CEST
DTSTART:20240331T010000
END:DAYLIGHT
BEGIN:STANDARD
TZOFFSETFROM:+0200
TZOFFSETTO:+0100
TZNAME:CET
DTSTART:20241027T010000
END:STANDARD
BEGIN:DAYLIGHT
TZOFFSETFROM:+0100
TZOFFSETTO:+0200
TZNAME:CEST
DTSTART:20250330T010000
END:DAYLIGHT
BEGIN:STANDARD
TZOFFSETFROM:+0200
TZOFFSETTO:+0100
TZNAME:CET
DTSTART:20251026T010000
END:STANDARD
BEGIN:DAYLIGHT
TZOFFSETFROM:+0100
TZOFFSETTO:+0200
TZNAME:CEST
DTSTART:20260329T010000
END:DAYLIGHT
BEGIN:STANDARD
TZOFFSETFROM:+0200
TZOFFSETTO:+0100
TZNAME:CET
DTSTART:20261025T010000
END:STANDARD
END:VTIMEZONE
BEGIN:VEVENT
DTSTART;TZID=Europe/Paris:20251130T180000
DTEND;TZID=Europe/Paris:20251130T180000
DTSTAMP:20260421T112758
CREATED:20251125T090304Z
LAST-MODIFIED:20251125T090304Z
UID:235042-1764525600-1764525600@www.ville-st-georges-dorques.fr
SUMMARY:Concert de Noël
DESCRIPTION:🎄✨ Un moment musical magique pour entrer dans l’esprit de Noël ! ✨🎶 \nLe dimanche 30 novembre\, à 18h\, l’Église de Saint-Georges d’Orques accueillera un Concert de Noël ouvert à tous. \nL’Ensemble Vocal de Gignac\, dirigé par le chef de chœur Pascal VEILLE\, accompagné au piano par E. Iannantuoni\, vous proposera un répertoire chaleureux et féerique pour célébrer l’arrivée des fêtes. \n🎼 Participation libre🎄 Une belle occasion de partager un instant musical en famille ou entre amis\, dans la douceur de l’Avent. \nNous vous attendons nombreux pour ce rendez-vous enchanteur ! ✨
URL:https://www.ville-st-georges-dorques.fr/evenement/concert-de-noel/
LOCATION:Église\, 2 Rue de l'Église\, Saint-Georges-d'Orques\, 34680\, France
CATEGORIES:agenda
ATTACH;FMTTYPE=image/png:https://www.ville-st-georges-dorques.fr/wp-content/uploads/Concert-Noel-VF.png
END:VEVENT
END:VCALENDAR