BEGIN:VCALENDAR
VERSION:2.0
PRODID:-//Saint-Georges-d&#039;Orques - ECPv6.15.20//NONSGML v1.0//EN
CALSCALE:GREGORIAN
METHOD:PUBLISH
X-ORIGINAL-URL:https://www.ville-st-georges-dorques.fr
X-WR-CALDESC:Évènements pour Saint-Georges-d&#039;Orques
REFRESH-INTERVAL;VALUE=DURATION:PT1H
X-Robots-Tag:noindex
X-PUBLISHED-TTL:PT1H
BEGIN:VTIMEZONE
TZID:Europe/Paris
BEGIN:DAYLIGHT
TZOFFSETFROM:+0100
TZOFFSETTO:+0200
TZNAME:CEST
DTSTART:20240331T010000
END:DAYLIGHT
BEGIN:STANDARD
TZOFFSETFROM:+0200
TZOFFSETTO:+0100
TZNAME:CET
DTSTART:20241027T010000
END:STANDARD
BEGIN:DAYLIGHT
TZOFFSETFROM:+0100
TZOFFSETTO:+0200
TZNAME:CEST
DTSTART:20250330T010000
END:DAYLIGHT
BEGIN:STANDARD
TZOFFSETFROM:+0200
TZOFFSETTO:+0100
TZNAME:CET
DTSTART:20251026T010000
END:STANDARD
BEGIN:DAYLIGHT
TZOFFSETFROM:+0100
TZOFFSETTO:+0200
TZNAME:CEST
DTSTART:20260329T010000
END:DAYLIGHT
BEGIN:STANDARD
TZOFFSETFROM:+0200
TZOFFSETTO:+0100
TZNAME:CET
DTSTART:20261025T010000
END:STANDARD
END:VTIMEZONE
BEGIN:VEVENT
DTSTART;VALUE=DATE:20251018
DTEND;VALUE=DATE:20251020
DTSTAMP:20260421T142228
CREATED:20251014T100807Z
LAST-MODIFIED:20251014T100807Z
UID:234908-1760745600-1760918399@www.ville-st-georges-dorques.fr
SUMMARY:Vide Grenier Dragons du Coeur
DESCRIPTION:Voici un exemple de texte à utiliser pour un post Facebook avec l’affiche du vide-grenier : \n\nNe manquez pas notre Vide-Grenier à Saint Georges d’Orques ! 🛍️ \nRendez-vous les 18 et 19 octobre de 8h30 à 17h au CCR\, en intérieur pour profiter d’un grand choix d’objets et de bonnes affaires\, quelle que soit la météo. \nExposants : 8€ pour une journée ou 14€ pour les deux\, emplacement de 2\,50 m avec table et café offert ! Pour réserver votre emplacement ou obtenir plus d’informations\, contactez le 06 71 17 95 23. \nRestauration et buvette sur place pour toute la famille. \nAmbiance conviviale garantie\, venez nombreux chiner\, vendre ou juste partager un moment sympa !
URL:https://www.ville-st-georges-dorques.fr/evenement/vide-grenier-dragons-du-coeur/
LOCATION:CCR Michel COLUCCI\, Saint Georges d'Orques\, Saint Georges d'Orques\, France
CATEGORIES:agenda
ATTACH;FMTTYPE=image/png:https://www.ville-st-georges-dorques.fr/wp-content/uploads/affiche-vide-grenier.png
END:VEVENT
END:VCALENDAR