BEGIN:VCALENDAR
VERSION:2.0
PRODID:-//Saint-Georges-d&#039;Orques - ECPv6.15.20//NONSGML v1.0//EN
CALSCALE:GREGORIAN
METHOD:PUBLISH
X-WR-CALNAME:Saint-Georges-d&#039;Orques
X-ORIGINAL-URL:https://www.ville-st-georges-dorques.fr
X-WR-CALDESC:Évènements pour Saint-Georges-d&#039;Orques
REFRESH-INTERVAL;VALUE=DURATION:PT1H
X-Robots-Tag:noindex
X-PUBLISHED-TTL:PT1H
BEGIN:VTIMEZONE
TZID:Europe/Paris
BEGIN:DAYLIGHT
TZOFFSETFROM:+0100
TZOFFSETTO:+0200
TZNAME:CEST
DTSTART:20240331T010000
END:DAYLIGHT
BEGIN:STANDARD
TZOFFSETFROM:+0200
TZOFFSETTO:+0100
TZNAME:CET
DTSTART:20241027T010000
END:STANDARD
BEGIN:DAYLIGHT
TZOFFSETFROM:+0100
TZOFFSETTO:+0200
TZNAME:CEST
DTSTART:20250330T010000
END:DAYLIGHT
BEGIN:STANDARD
TZOFFSETFROM:+0200
TZOFFSETTO:+0100
TZNAME:CET
DTSTART:20251026T010000
END:STANDARD
BEGIN:DAYLIGHT
TZOFFSETFROM:+0100
TZOFFSETTO:+0200
TZNAME:CEST
DTSTART:20260329T010000
END:DAYLIGHT
BEGIN:STANDARD
TZOFFSETFROM:+0200
TZOFFSETTO:+0100
TZNAME:CET
DTSTART:20261025T010000
END:STANDARD
END:VTIMEZONE
BEGIN:VEVENT
DTSTART;TZID=Europe/Paris:20251010T100000
DTEND;TZID=Europe/Paris:20251011T190000
DTSTAMP:20260421T135020
CREATED:20251007T095301Z
LAST-MODIFIED:20251007T095301Z
UID:234898-1760090400-1760209200@www.ville-st-georges-dorques.fr
SUMMARY:Double Exposition Peintures
DESCRIPTION:La salle du Conseil Municipal (Maison des Vendangeurs) accueille du 10 au 11 octobre 2025 une double exposition exceptionnelle à Saint-Georges d’Orques ! \n👩‍🎨 Découvrez les œuvres de Isabelle Garcia et Vanessa Ben Amor\, deux artistes aux univers forts et contrastés. Profitez de ce rendez-vous pour apprécier la richesse de leurs créations\, de l’émotion des portraits à la puissance des animaux sauvages. \n📍 Où ?\nSalle du Conseil Municipal (Maison des Vendangeurs)\n2 Av de Montpellier\, 34680 St-Georges d’Orques \n🗓 Quand ?\nDu 10 octobre au 11 octobre 2025\nDe 10h à 19h – Entrée gratuite \n🍷 Vernissage le 11 octobre à partir de 17h30\nUn moment convivial autour du “verre de l’amitié” pour rencontrer les artistes et échanger avec elles sur leur passion. \nVenez nombreux soutenir l’art local et partager cette expérience artistique unique !
URL:https://www.ville-st-georges-dorques.fr/evenement/double-exposition-peintures/
LOCATION:Salle du Conseil – Maison des Vendangeurs\, 2 avenue de Montpellier\, Saint-Georges d'Orques\, 34680\, France
CATEGORIES:agenda
ATTACH;FMTTYPE=image/png:https://www.ville-st-georges-dorques.fr/wp-content/uploads/Double-expo-1.png
END:VEVENT
END:VCALENDAR