BEGIN:VCALENDAR
VERSION:2.0
PRODID:-//Saint-Georges-d&#039;Orques - ECPv6.15.20//NONSGML v1.0//EN
CALSCALE:GREGORIAN
METHOD:PUBLISH
X-WR-CALNAME:Saint-Georges-d&#039;Orques
X-ORIGINAL-URL:https://www.ville-st-georges-dorques.fr
X-WR-CALDESC:Évènements pour Saint-Georges-d&#039;Orques
REFRESH-INTERVAL;VALUE=DURATION:PT1H
X-Robots-Tag:noindex
X-PUBLISHED-TTL:PT1H
BEGIN:VTIMEZONE
TZID:Europe/Paris
BEGIN:DAYLIGHT
TZOFFSETFROM:+0100
TZOFFSETTO:+0200
TZNAME:CEST
DTSTART:20240331T010000
END:DAYLIGHT
BEGIN:STANDARD
TZOFFSETFROM:+0200
TZOFFSETTO:+0100
TZNAME:CET
DTSTART:20241027T010000
END:STANDARD
BEGIN:DAYLIGHT
TZOFFSETFROM:+0100
TZOFFSETTO:+0200
TZNAME:CEST
DTSTART:20250330T010000
END:DAYLIGHT
BEGIN:STANDARD
TZOFFSETFROM:+0200
TZOFFSETTO:+0100
TZNAME:CET
DTSTART:20251026T010000
END:STANDARD
BEGIN:DAYLIGHT
TZOFFSETFROM:+0100
TZOFFSETTO:+0200
TZNAME:CEST
DTSTART:20260329T010000
END:DAYLIGHT
BEGIN:STANDARD
TZOFFSETFROM:+0200
TZOFFSETTO:+0100
TZNAME:CET
DTSTART:20261025T010000
END:STANDARD
END:VTIMEZONE
BEGIN:VEVENT
DTSTART;TZID=Europe/Paris:20250920T090000
DTEND;TZID=Europe/Paris:20250921T110000
DTSTAMP:20260419T192606
CREATED:20250910T085704Z
LAST-MODIFIED:20250910T085704Z
UID:234825-1758358800-1758452400@www.ville-st-georges-dorques.fr
SUMMARY:Journée du patrimoine
DESCRIPTION:🏛️ Journées Européennes du Patrimoine 🏛️ \n📅 Les 20 et 21 septembre 2025\, découvrez le patrimoine de Saint-Georges-d’Orques à l’occasion de ce rendez-vous incontournable. \n✨ Au programme :👉 Visite découverte de l’église : de 9h à 18h👉 Représentation théâtrale : dimanche 21 septembre à 11h au Parc CourtySpectacle « Avant\, même l’avenir meilleur » par la compagnie God Bless You 🎭 \nUn moment privilégié pour (re)découvrir notre patrimoine architectural et vivre des instants culturels uniques !
URL:https://www.ville-st-georges-dorques.fr/evenement/journee-du-patrimoine/
LOCATION:Église\, 2 Rue de l'Église\, Saint-Georges-d'Orques\, 34680\, France
CATEGORIES:agenda
ATTACH;FMTTYPE=image/png:https://www.ville-st-georges-dorques.fr/wp-content/uploads/Journee-patrimoine-.png
END:VEVENT
END:VCALENDAR